BEGIN:VCALENDAR
VERSION:2.0
PRODID:-//Plone.org//NONSGML plone.app.event//EN
X-WR-TIMEZONE:Europe/Madrid
BEGIN:VEVENT
SUMMARY:Taller: La Sardina de Carnaval
DTSTART;TZID=Europe/Madrid;VALUE=DATE-TIME:20200221T170000
DTEND;TZID=Europe/Madrid;VALUE=DATE-TIME:20200221T180000
DTSTAMP;VALUE=DATE-TIME:20260420T054147Z
UID:35a8208957b74e42a5e306575c65713c@www.rubi.cat
CREATED;VALUE=DATE-TIME:20200721T084101Z
DESCRIPTION:¡Taller de creación artística Haz Sardina de Carnaval!
LAST-MODIFIED;VALUE=DATE-TIME:20200721T084230Z
LOCATION:Vestíbulo de la Biblioteca
URL:https://www.rubi.cat/es/temas/cultura/agenda/taller-la-sardina-de-carn
 aval
END:VEVENT
BEGIN:VTIMEZONE
TZID:Europe/Madrid
X-LIC-LOCATION:Europe/Madrid
BEGIN:STANDARD
DTSTART;VALUE=DATE-TIME:20191027T020000
TZNAME:CET
TZOFFSETFROM:+0200
TZOFFSETTO:+0100
END:STANDARD
END:VTIMEZONE
END:VCALENDAR
