BEGIN:VCALENDAR
VERSION:2.0
PRODID:-//Plone.org//NONSGML plone.app.event//EN
X-WR-TIMEZONE:Europe/Madrid
BEGIN:VEVENT
SUMMARY:XIX Jornadas de Jazz de Rubí
DTSTART;TZID=Europe/Madrid;VALUE=DATE-TIME:20200911T120000
DTEND;TZID=Europe/Madrid;VALUE=DATE-TIME:20200913T140000
DTSTAMP;VALUE=DATE-TIME:20260420T025905Z
UID:7b93451867454de7b78c735b9e4d846a@www.rubi.cat
CONTACT:935887473\, ateneu@ajrubi.cat
CREATED;VALUE=DATE-TIME:20200831T070734Z
DESCRIPTION:XIX Jornadas de Jazz de Rubí
LAST-MODIFIED;VALUE=DATE-TIME:20200910T135836Z
LOCATION:Ateneu Municipal
URL:https://www.rubi.cat/es/actualidad/agenda/xix-jornadas-de-jazz-de-rubi
END:VEVENT
BEGIN:VTIMEZONE
TZID:Europe/Madrid
X-LIC-LOCATION:Europe/Madrid
BEGIN:DAYLIGHT
DTSTART;VALUE=DATE-TIME:20200329T030000
TZNAME:CEST
TZOFFSETFROM:+0100
TZOFFSETTO:+0200
END:DAYLIGHT
END:VTIMEZONE
END:VCALENDAR
