BEGIN:VCALENDAR
VERSION:2.0
PRODID:-//Plone.org//NONSGML plone.app.event//EN
X-WR-TIMEZONE:Europe/Madrid
BEGIN:VEVENT
SUMMARY:Veus que no veus
DTSTART;TZID=Europe/Madrid;VALUE=DATE-TIME:20210220T200000
DTEND;TZID=Europe/Madrid;VALUE=DATE-TIME:20210220T210000
DTSTAMP;VALUE=DATE-TIME:20260420T102119Z
UID:0fa6f0280b4349b087961ab893aa753e@www.rubi.cat
CATEGORIES:Teatre
CREATED;VALUE=DATE-TIME:20210114T102008Z
DESCRIPTION:Temporada Estable de Espectáculos
LAST-MODIFIED;VALUE=DATE-TIME:20210118T115058Z
LOCATION:La Sala\, Teatre Municipal
URL:https://www.rubi.cat/es/actualidad/agenda/veus-que-no-veus
END:VEVENT
BEGIN:VTIMEZONE
TZID:Europe/Madrid
X-LIC-LOCATION:Europe/Madrid
BEGIN:STANDARD
DTSTART;VALUE=DATE-TIME:20201025T020000
TZNAME:CET
TZOFFSETFROM:+0200
TZOFFSETTO:+0100
END:STANDARD
END:VTIMEZONE
END:VCALENDAR
