BEGIN:VCALENDAR
VERSION:2.0
PRODID:-//Plone.org//NONSGML plone.app.event//EN
X-WR-TIMEZONE:Europe/Madrid
BEGIN:VEVENT
SUMMARY:Taller de rap combativo
DTSTART;TZID=Europe/Madrid;VALUE=DATE-TIME:20221114T180000
DTEND;TZID=Europe/Madrid;VALUE=DATE-TIME:20221123T200000
DTSTAMP;VALUE=DATE-TIME:20260419T144307Z
UID:ef0fe7efef9044e8b2e41d02eb09e3e3@www.rubi.cat
CATEGORIES:Taller
CREATED;VALUE=DATE-TIME:20221104T143728Z
DESCRIPTION:Día Internacional para la Eliminación de la Violencia hacia 
 las Mujeres
LAST-MODIFIED;VALUE=DATE-TIME:20221108T144258Z
URL:https://www.rubi.cat/es/actualidad/agenda/taller-de-rap-combativo
END:VEVENT
BEGIN:VTIMEZONE
TZID:Europe/Madrid
X-LIC-LOCATION:Europe/Madrid
BEGIN:STANDARD
DTSTART;VALUE=DATE-TIME:20221030T020000
TZNAME:CET
TZOFFSETFROM:+0200
TZOFFSETTO:+0100
END:STANDARD
END:VTIMEZONE
END:VCALENDAR
