BEGIN:VCALENDAR
VERSION:2.0
PRODID:-//Plone.org//NONSGML plone.app.event//EN
X-WR-TIMEZONE:Europe/Madrid
BEGIN:VEVENT
SUMMARY:Taller de danzaterapia
DTSTART;TZID=Europe/Madrid;VALUE=DATE-TIME:20211203T180000
DTEND;TZID=Europe/Madrid;VALUE=DATE-TIME:20211203T200000
DTSTAMP;VALUE=DATE-TIME:20260419T211921Z
UID:48c0d17cdafa4cff91209fadc25028ee@www.rubi.cat
CATEGORIES:Danza
CREATED;VALUE=DATE-TIME:20210512T174934Z
DESCRIPTION:Conecta las emociones con el cuerpo
LAST-MODIFIED;VALUE=DATE-TIME:20211119T142054Z
LOCATION:Auditorio
URL:https://www.rubi.cat/es/actualidad/agenda/taller-danzaterapia
END:VEVENT
BEGIN:VTIMEZONE
TZID:Europe/Madrid
X-LIC-LOCATION:Europe/Madrid
BEGIN:STANDARD
DTSTART;VALUE=DATE-TIME:20211031T020000
TZNAME:CET
TZOFFSETFROM:+0200
TZOFFSETTO:+0100
END:STANDARD
END:VTIMEZONE
END:VCALENDAR
