BEGIN:VCALENDAR
VERSION:2.0
PRODID:-//Plone.org//NONSGML plone.app.event//EN
X-WR-TIMEZONE:Europe/Madrid
BEGIN:VEVENT
SUMMARY:Presentación del libro "Vida de Teresina"
DTSTART;TZID=Europe/Madrid;VALUE=DATE-TIME:20240601T120000
DTEND;TZID=Europe/Madrid;VALUE=DATE-TIME:20240601T130000
DTSTAMP;VALUE=DATE-TIME:20260419T161808Z
UID:cc3fd1aae9b64f66954539c9ec9fc436@www.rubi.cat
CATEGORIES:Presentación de libro
CREATED;VALUE=DATE-TIME:20240516T145936Z
DESCRIPTION:Teatre sense Teatre
LAST-MODIFIED;VALUE=DATE-TIME:20240521T121011Z
LOCATION:Carpa del Racó del Llibre. C. Doctor Robert\, 12
URL:https://www.rubi.cat/es/actualidad/agenda/presentacion-del-libro-vida-
 de-teresina
END:VEVENT
BEGIN:VTIMEZONE
TZID:Europe/Madrid
X-LIC-LOCATION:Europe/Madrid
BEGIN:DAYLIGHT
DTSTART;VALUE=DATE-TIME:20240331T030000
TZNAME:CEST
TZOFFSETFROM:+0100
TZOFFSETTO:+0200
END:DAYLIGHT
END:VTIMEZONE
END:VCALENDAR
