BEGIN:VCALENDAR
VERSION:2.0
PRODID:-//Plone.org//NONSGML plone.app.event//EN
X-WR-TIMEZONE:Europe/Madrid
BEGIN:VEVENT
SUMMARY:Pacto para la moda circular
DTSTART;TZID=Europe/Madrid;VALUE=DATE-TIME:20260415T120000
DTEND;TZID=Europe/Madrid;VALUE=DATE-TIME:20260422T130000
DTSTAMP;VALUE=DATE-TIME:20260420T034600Z
UID:a093e4b6c4c0425eb09bcc34b9ce5237@www.rubi.cat
CATEGORIES:Exposición,Día de la Tierra
CREATED;VALUE=DATE-TIME:20260228T112949Z
DESCRIPTION:Exposición sobre el pacto para tejer un futuro más sostenibl
 e
LAST-MODIFIED;VALUE=DATE-TIME:20260330T182344Z
LOCATION:Vestíbulo
URL:https://www.rubi.cat/es/actualidad/agenda/pacto-para-la-moda-circular
END:VEVENT
BEGIN:VTIMEZONE
TZID:Europe/Madrid
X-LIC-LOCATION:Europe/Madrid
BEGIN:DAYLIGHT
DTSTART;VALUE=DATE-TIME:20260329T030000
TZNAME:CEST
TZOFFSETFROM:+0100
TZOFFSETTO:+0200
END:DAYLIGHT
END:VTIMEZONE
END:VCALENDAR
