BEGIN:VCALENDAR
VERSION:2.0
PRODID:-//Plone.org//NONSGML plone.app.event//EN
X-WR-TIMEZONE:Europe/Madrid
BEGIN:VEVENT
SUMMARY:No hay planeta sin animales
DTSTART;TZID=Europe/Madrid;VALUE=DATE-TIME:20210422T183000
DTEND;TZID=Europe/Madrid;VALUE=DATE-TIME:20210422T203000
DTSTAMP;VALUE=DATE-TIME:20260419T205527Z
UID:7c04c6f2f74d484f9293a35dc4fc602b@www.rubi.cat
CATEGORIES:Conferencia
CONTACT:https://crac.cat/dia-de-la-terra-22-dabril-de-2021/
CREATED;VALUE=DATE-TIME:20210416T134627Z
DESCRIPTION:Charla y presentación del proyecto "Red de comercios sostenib
 les de Rubí"\, en el marco del Día de la Tierra
LAST-MODIFIED;VALUE=DATE-TIME:20210416T134820Z
LOCATION:CRAC!. C. Sant Joan\, 1
URL:https://www.rubi.cat/es/actualidad/agenda/no-hay-planeta-sin-animales
END:VEVENT
BEGIN:VTIMEZONE
TZID:Europe/Madrid
X-LIC-LOCATION:Europe/Madrid
BEGIN:DAYLIGHT
DTSTART;VALUE=DATE-TIME:20210328T030000
TZNAME:CEST
TZOFFSETFROM:+0100
TZOFFSETTO:+0200
END:DAYLIGHT
END:VTIMEZONE
END:VCALENDAR
