BEGIN:VCALENDAR
VERSION:2.0
PRODID:-//Plone.org//NONSGML plone.app.event//EN
X-WR-TIMEZONE:Europe/Madrid
BEGIN:VEVENT
SUMMARY:"No estamos tan bien" de Rubén Serrano
DTSTART;TZID=Europe/Madrid;VALUE=DATE-TIME:20231011T180000
DTEND;TZID=Europe/Madrid;VALUE=DATE-TIME:20231011T200000
DTSTAMP;VALUE=DATE-TIME:20260419T224103Z
UID:13240f7e928341118457a6bf16d7d634@www.rubi.cat
CONTACT:https://clublecturaddhh.wordpress.com/
CREATED;VALUE=DATE-TIME:20230907T123130Z
DESCRIPTION:Grupo de lectura y debate
LAST-MODIFIED;VALUE=DATE-TIME:20230907T124340Z
LOCATION:Biblioteca Maestro Martí Tauler
URL:https://www.rubi.cat/es/actualidad/agenda/no-estamos-tan-bien-de-ruben
 -serrano
END:VEVENT
BEGIN:VTIMEZONE
TZID:Europe/Madrid
X-LIC-LOCATION:Europe/Madrid
BEGIN:DAYLIGHT
DTSTART;VALUE=DATE-TIME:20230326T030000
TZNAME:CEST
TZOFFSETFROM:+0100
TZOFFSETTO:+0200
END:DAYLIGHT
END:VTIMEZONE
END:VCALENDAR
