BEGIN:VCALENDAR
VERSION:2.0
PRODID:-//Plone.org//NONSGML plone.app.event//EN
X-WR-TIMEZONE:Europe/Madrid
BEGIN:VEVENT
SUMMARY:Libro animado o flipbook
DTSTART;TZID=Europe/Madrid;VALUE=DATE-TIME:20210109T113000
DTEND;TZID=Europe/Madrid;VALUE=DATE-TIME:20210109T124500
DTSTAMP;VALUE=DATE-TIME:20260420T102115Z
UID:77725c82f7ea4be4bd666e18535eb37e@www.rubi.cat
CONTACT:93 588 74 73\, ateneu@ajrubi.cat
CREATED;VALUE=DATE-TIME:20200917T112017Z
DESCRIPTION:Programación otoño | Ciclo de Arte y creatividad
LAST-MODIFIED;VALUE=DATE-TIME:20200917T130419Z
LOCATION:Ateneu Municipal
URL:https://www.rubi.cat/es/actualidad/agenda/libro-animado-o-flipbook
END:VEVENT
BEGIN:VTIMEZONE
TZID:Europe/Madrid
X-LIC-LOCATION:Europe/Madrid
BEGIN:STANDARD
DTSTART;VALUE=DATE-TIME:20201025T020000
TZNAME:CET
TZOFFSETFROM:+0200
TZOFFSETTO:+0100
END:STANDARD
END:VTIMEZONE
END:VCALENDAR
