BEGIN:VCALENDAR
VERSION:2.0
PRODID:-//Plone.org//NONSGML plone.app.event//EN
X-WR-TIMEZONE:Europe/Madrid
BEGIN:VEVENT
SUMMARY:Lectura del manifiesto
DTSTART;TZID=Europe/Madrid;VALUE=DATE-TIME:20241203T111500
DTEND;TZID=Europe/Madrid;VALUE=DATE-TIME:20241203T114500
DTSTAMP;VALUE=DATE-TIME:20260420T051820Z
UID:3c462dd5b8d04882bd0f47bbffbcc78c@www.rubi.cat
CREATED;VALUE=DATE-TIME:20241126T153442Z
DESCRIPTION:Día Internacional de las personas con discapacidad
LAST-MODIFIED;VALUE=DATE-TIME:20241127T135401Z
LOCATION:En Radio Rubí
URL:https://www.rubi.cat/es/actualidad/agenda/lectura-del-manifiesto
END:VEVENT
BEGIN:VTIMEZONE
TZID:Europe/Madrid
X-LIC-LOCATION:Europe/Madrid
BEGIN:STANDARD
DTSTART;VALUE=DATE-TIME:20241027T020000
TZNAME:CET
TZOFFSETFROM:+0200
TZOFFSETTO:+0100
END:STANDARD
END:VTIMEZONE
END:VCALENDAR
