BEGIN:VCALENDAR
VERSION:2.0
PRODID:-//Plone.org//NONSGML plone.app.event//EN
X-WR-TIMEZONE:Europe/Madrid
BEGIN:VEVENT
SUMMARY:Las cuatro estaciones de Vivaldi
DTSTART;TZID=Europe/Madrid;VALUE=DATE-TIME:20230113T190000
DTEND;TZID=Europe/Madrid;VALUE=DATE-TIME:20230113T200000
DTSTAMP;VALUE=DATE-TIME:20260420T054253Z
UID:86231c9d8467413ea0dbb99d78e26839@www.rubi.cat
CATEGORIES:Música
CONTACT:http://ateneurubi.rubidigital.cat/es_agenda/1011/las-cuatro-estaci
 ones-de-vivaldi
CREATED;VALUE=DATE-TIME:20221214T093951Z
DESCRIPTION:Sala Clásica
LAST-MODIFIED;VALUE=DATE-TIME:20221215T121544Z
URL:https://www.rubi.cat/es/actualidad/agenda/las-cuatro-estaciones-de-viv
 aldi
END:VEVENT
BEGIN:VTIMEZONE
TZID:Europe/Madrid
X-LIC-LOCATION:Europe/Madrid
BEGIN:STANDARD
DTSTART;VALUE=DATE-TIME:20221030T020000
TZNAME:CET
TZOFFSETFROM:+0200
TZOFFSETTO:+0100
END:STANDARD
END:VTIMEZONE
END:VCALENDAR
