BEGIN:VCALENDAR
VERSION:2.0
PRODID:-//Plone.org//NONSGML plone.app.event//EN
X-WR-TIMEZONE:Europe/Madrid
BEGIN:VEVENT
SUMMARY:La edad no nos representa
DTSTART;TZID=Europe/Madrid;VALUE=DATE-TIME:20250316T120000
DTEND;TZID=Europe/Madrid;VALUE=DATE-TIME:20250316T130000
DTSTAMP;VALUE=DATE-TIME:20260420T141932Z
UID:32f92c88a07c4d938225053ff8044037@www.rubi.cat
CATEGORIES:Día de las Mujeres 2025,Taller
CREATED;VALUE=DATE-TIME:20250227T164735Z
DESCRIPTION:Actividades de tecnologías y manualidades
LAST-MODIFIED;VALUE=DATE-TIME:20250312T064836Z
URL:https://www.rubi.cat/es/actualidad/agenda/la-edad-no-nos-representa
END:VEVENT
BEGIN:VTIMEZONE
TZID:Europe/Madrid
X-LIC-LOCATION:Europe/Madrid
BEGIN:STANDARD
DTSTART;VALUE=DATE-TIME:20241027T020000
TZNAME:CET
TZOFFSETFROM:+0200
TZOFFSETTO:+0100
END:STANDARD
END:VTIMEZONE
END:VCALENDAR
