BEGIN:VCALENDAR
VERSION:2.0
PRODID:-//Plone.org//NONSGML plone.app.event//EN
X-WR-TIMEZONE:Europe/Madrid
BEGIN:VEVENT
SUMMARY:¡Haz la sardina de Carnaval!
DTSTART;TZID=Europe/Madrid;VALUE=DATE-TIME:20230219T113000
DTEND;TZID=Europe/Madrid;VALUE=DATE-TIME:20230219T133000
DTSTAMP;VALUE=DATE-TIME:20260419T192301Z
UID:09327b2d06fe40f4a20439367c11626d@www.rubi.cat
CATEGORIES:Taller,Actividad familiar,Carnaval2023
CREATED;VALUE=DATE-TIME:20230126T092852Z
DESCRIPTION:Ven a crear\, pintar y decorar la sardina
LAST-MODIFIED;VALUE=DATE-TIME:20230126T092945Z
LOCATION:Plaza del Dr.Guardiet
URL:https://www.rubi.cat/es/actualidad/agenda/haz-la-sardina-de-carnaval-1
END:VEVENT
BEGIN:VTIMEZONE
TZID:Europe/Madrid
X-LIC-LOCATION:Europe/Madrid
BEGIN:STANDARD
DTSTART;VALUE=DATE-TIME:20221030T020000
TZNAME:CET
TZOFFSETFROM:+0200
TZOFFSETTO:+0100
END:STANDARD
END:VTIMEZONE
END:VCALENDAR
