BEGIN:VCALENDAR
VERSION:2.0
PRODID:-//Plone.org//NONSGML plone.app.event//EN
X-WR-TIMEZONE:Europe/Madrid
BEGIN:VEVENT
SUMMARY:Filippo Dall'Asta Manouche Trio
DTSTART;TZID=Europe/Madrid;VALUE=DATE-TIME:20250316T123000
DTEND;TZID=Europe/Madrid;VALUE=DATE-TIME:20250316T140000
DTSTAMP;VALUE=DATE-TIME:20260420T072628Z
UID:d22c55ccb1714eeb8ce25d0bdb6d250b@www.rubi.cat
CATEGORIES:Música,COLOR Week 2025
CREATED;VALUE=DATE-TIME:20241125T130805Z
DESCRIPTION:12º Ciclo de jazz
LAST-MODIFIED;VALUE=DATE-TIME:20250305T115121Z
URL:https://www.rubi.cat/es/actualidad/agenda/filippo-dallasta-manouche-tr
 io
END:VEVENT
BEGIN:VTIMEZONE
TZID:Europe/Madrid
X-LIC-LOCATION:Europe/Madrid
BEGIN:STANDARD
DTSTART;VALUE=DATE-TIME:20241027T020000
TZNAME:CET
TZOFFSETFROM:+0200
TZOFFSETTO:+0100
END:STANDARD
END:VTIMEZONE
END:VCALENDAR
