BEGIN:VCALENDAR
VERSION:2.0
PRODID:-//Plone.org//NONSGML plone.app.event//EN
X-WR-TIMEZONE:Europe/Madrid
BEGIN:VEVENT
SUMMARY:13a Feria del Vino
DTSTART;TZID=Europe/Madrid;VALUE=DATE-TIME:20251025T110000
DTEND;TZID=Europe/Madrid;VALUE=DATE-TIME:20251025T235500
DTSTAMP;VALUE=DATE-TIME:20260419T164601Z
UID:7e61e4ca543a44408c9885b80124c7b5@www.rubi.cat
CATEGORIES:Feria,Música,Restauració
CREATED;VALUE=DATE-TIME:20251007T071909Z
DESCRIPTION:Catas\, gastronomía y música
LAST-MODIFIED;VALUE=DATE-TIME:20251008T063832Z
URL:https://www.rubi.cat/es/actualidad/agenda/feria-del-vino-sabado
END:VEVENT
BEGIN:VTIMEZONE
TZID:Europe/Madrid
X-LIC-LOCATION:Europe/Madrid
BEGIN:DAYLIGHT
DTSTART;VALUE=DATE-TIME:20250330T030000
TZNAME:CEST
TZOFFSETFROM:+0100
TZOFFSETTO:+0200
END:DAYLIGHT
END:VTIMEZONE
END:VCALENDAR
