BEGIN:VCALENDAR
VERSION:2.0
PRODID:-//Plone.org//NONSGML plone.app.event//EN
X-WR-TIMEZONE:Europe/Madrid
BEGIN:VEVENT
SUMMARY:Exposición de labores
DTSTART;TZID=Europe/Madrid;VALUE=DATE-TIME:20210918T170000
DTEND;TZID=Europe/Madrid;VALUE=DATE-TIME:20210919T140000
DTSTAMP;VALUE=DATE-TIME:20260420T102146Z
UID:c3cb19dae5854d7896d967196aa65d01@www.rubi.cat
CATEGORIES:Exposición
CONTACT:https://www.totlabors.com/
CREATED;VALUE=DATE-TIME:20210831T072925Z
DESCRIPTION:Exposición de trabajos de patchwork\, con muñecas\, bolsas\,
  paneles y muchas cosas más
LAST-MODIFIED;VALUE=DATE-TIME:20210831T073012Z
LOCATION:Mercería Mercè-Tot Labors. C. Bartrina\, 26
URL:https://www.rubi.cat/es/actualidad/agenda/exposicion-de-labores
END:VEVENT
BEGIN:VTIMEZONE
TZID:Europe/Madrid
X-LIC-LOCATION:Europe/Madrid
BEGIN:DAYLIGHT
DTSTART;VALUE=DATE-TIME:20210328T030000
TZNAME:CEST
TZOFFSETFROM:+0100
TZOFFSETTO:+0200
END:DAYLIGHT
END:VTIMEZONE
END:VCALENDAR
