BEGIN:VCALENDAR
VERSION:2.0
PRODID:-//Plone.org//NONSGML plone.app.event//EN
X-WR-TIMEZONE:Europe/Madrid
BEGIN:VEVENT
SUMMARY:En Bum i l'estel dels desitjos
DTSTART;TZID=Europe/Madrid;VALUE=DATE-TIME:20230517T180000
DTEND;TZID=Europe/Madrid;VALUE=DATE-TIME:20230517T190000
DTSTAMP;VALUE=DATE-TIME:20260420T015242Z
UID:5837ef97797b404eb9ef1d26f93f9668@www.rubi.cat
CATEGORIES:Activitat familiar
CREATED;VALUE=DATE-TIME:20230419T135141Z
DESCRIPTION:Hora del conte para peques a partir de 4 años
LAST-MODIFIED;VALUE=DATE-TIME:20230420T090508Z
LOCATION:Auditorio
URL:https://www.rubi.cat/es/actualidad/agenda/en-bum-i-lestel-dels-desitjo
 s
END:VEVENT
BEGIN:VTIMEZONE
TZID:Europe/Madrid
X-LIC-LOCATION:Europe/Madrid
BEGIN:DAYLIGHT
DTSTART;VALUE=DATE-TIME:20230326T030000
TZNAME:CEST
TZOFFSETFROM:+0100
TZOFFSETTO:+0200
END:DAYLIGHT
END:VTIMEZONE
END:VCALENDAR
