BEGIN:VCALENDAR
VERSION:2.0
PRODID:-//Plone.org//NONSGML plone.app.event//EN
X-WR-TIMEZONE:Europe/Madrid
BEGIN:VEVENT
SUMMARY:El huerto con los cinco sentidos
DTSTART;TZID=Europe/Madrid;VALUE=DATE-TIME:20211017T120000
DTEND;TZID=Europe/Madrid;VALUE=DATE-TIME:20211017T133000
DTSTAMP;VALUE=DATE-TIME:20260419T234311Z
UID:3ac581ac98eb466fbc6c7adfc14420eb@www.rubi.cat
CATEGORIES:Actividad familiar
CREATED;VALUE=DATE-TIME:20211001T100108Z
DESCRIPTION:Taller a cargo de L'Ortiga
LAST-MODIFIED;VALUE=DATE-TIME:20211001T130212Z
URL:https://www.rubi.cat/es/actualidad/agenda/el-huerto-con-los-cinco-sent
 idos
END:VEVENT
BEGIN:VTIMEZONE
TZID:Europe/Madrid
X-LIC-LOCATION:Europe/Madrid
BEGIN:DAYLIGHT
DTSTART;VALUE=DATE-TIME:20210328T030000
TZNAME:CEST
TZOFFSETFROM:+0100
TZOFFSETTO:+0200
END:DAYLIGHT
END:VTIMEZONE
END:VCALENDAR
