BEGIN:VCALENDAR
VERSION:2.0
PRODID:-//Plone.org//NONSGML plone.app.event//EN
X-WR-TIMEZONE:Europe/Madrid
BEGIN:VEVENT
SUMMARY:Curso de acuarela
DTSTART;TZID=Europe/Madrid;VALUE=DATE-TIME:20221015T110000
DTEND;TZID=Europe/Madrid;VALUE=DATE-TIME:20221015T130000
DTSTAMP;VALUE=DATE-TIME:20260420T134437Z
UID:4859aac1da8944e8be0b304d548417f9@www.rubi.cat
CATEGORIES:Curso,Taller
CONTACT:http://ateneurubi.rubidigital.cat/es_agenda/975/curso-de-acuarela
CREATED;VALUE=DATE-TIME:20220914T131019Z
DESCRIPTION:Cursos y talleres
LAST-MODIFIED;VALUE=DATE-TIME:20220922T111739Z
URL:https://www.rubi.cat/es/actualidad/agenda/curso-de-acuarela-3
END:VEVENT
BEGIN:VTIMEZONE
TZID:Europe/Madrid
X-LIC-LOCATION:Europe/Madrid
BEGIN:DAYLIGHT
DTSTART;VALUE=DATE-TIME:20220327T030000
TZNAME:CEST
TZOFFSETFROM:+0100
TZOFFSETTO:+0200
END:DAYLIGHT
END:VTIMEZONE
END:VCALENDAR
