BEGIN:VCALENDAR
VERSION:2.0
PRODID:-//Plone.org//NONSGML plone.app.event//EN
X-WR-TIMEZONE:Europe/Madrid
BEGIN:VEVENT
SUMMARY:Cua de Rata
DTSTART;TZID=Europe/Madrid;VALUE=DATE-TIME:20201208T183000
DTEND;TZID=Europe/Madrid;VALUE=DATE-TIME:20201208T185500
DTSTAMP;VALUE=DATE-TIME:20260420T142556Z
UID:b40f25a6d2014186a0413beacdb5d4db@www.rubi.cat
CATEGORIES:Actividad familiar
CREATED;VALUE=DATE-TIME:20201207T073002Z
DESCRIPTION:Espectáculo de títeres de guante y teatro
LAST-MODIFIED;VALUE=DATE-TIME:20201209T111935Z
LOCATION:Carpa de Navidad de la Pl. Dr. Guardiet
URL:https://www.rubi.cat/es/actualidad/agenda/cua-de-rata-1
END:VEVENT
BEGIN:VTIMEZONE
TZID:Europe/Madrid
X-LIC-LOCATION:Europe/Madrid
BEGIN:STANDARD
DTSTART;VALUE=DATE-TIME:20201025T020000
TZNAME:CET
TZOFFSETFROM:+0200
TZOFFSETTO:+0100
END:STANDARD
END:VTIMEZONE
END:VCALENDAR
