BEGIN:VCALENDAR
VERSION:2.0
PRODID:-//Plone.org//NONSGML plone.app.event//EN
X-WR-TIMEZONE:Europe/Madrid
BEGIN:VEVENT
SUMMARY:Conexión edRa
DTSTART;VALUE=DATE:20260114
DTEND;VALUE=DATE:20260207
DTSTAMP;VALUE=DATE-TIME:20260420T102116Z
UID:70f1810e1889438fb3d350e6c602b8e3@www.rubi.cat
CATEGORIES:Exposición
CREATED;VALUE=DATE-TIME:20260113T131845Z
DESCRIPTION:Exposición de Pep Borràs\, Pepe Farrés y Orland Jansà
LAST-MODIFIED;VALUE=DATE-TIME:20260113T131933Z
LOCATION:Escuela de Arte y Diseño edRa. Espacio Expositivo Pepa de Haro
URL:https://www.rubi.cat/es/actualidad/agenda/conexion-edra
END:VEVENT
END:VCALENDAR
