BEGIN:VCALENDAR
VERSION:2.0
PRODID:-//Plone.org//NONSGML plone.app.event//EN
X-WR-TIMEZONE:Europe/Madrid
BEGIN:VEVENT
SUMMARY:Concierto Gallos + Sin Reputación
DTSTART;TZID=Europe/Madrid;VALUE=DATE-TIME:20240120T210000
DTEND;TZID=Europe/Madrid;VALUE=DATE-TIME:20240120T235500
DTSTAMP;VALUE=DATE-TIME:20260420T072728Z
UID:74aca53a61b24249b76d4aa73e3c6f18@www.rubi.cat
CATEGORIES:Música
CONTACT:https://www.rubirock.cat/index.php/event/gallos-sin-reputacion/
CREATED;VALUE=DATE-TIME:20240117T091824Z
DESCRIPTION:Concierto de rock and roll en el Espai 14/13 con las bandas GA
 LLOS y SIN REPUTACIÓN
LAST-MODIFIED;VALUE=DATE-TIME:20240117T091921Z
LOCATION:Espai 14/13. Ctra. Sabadell\, s/n
URL:https://www.rubi.cat/es/actualidad/agenda/concierto-gallos-sin-reputac
 ion
END:VEVENT
BEGIN:VTIMEZONE
TZID:Europe/Madrid
X-LIC-LOCATION:Europe/Madrid
BEGIN:STANDARD
DTSTART;VALUE=DATE-TIME:20231029T020000
TZNAME:CET
TZOFFSETFROM:+0200
TZOFFSETTO:+0100
END:STANDARD
END:VTIMEZONE
END:VCALENDAR
