BEGIN:VCALENDAR
VERSION:2.0
PRODID:-//Plone.org//NONSGML plone.app.event//EN
X-WR-TIMEZONE:Europe/Madrid
BEGIN:VEVENT
SUMMARY:Caminata por Can Xercavins
DTSTART;TZID=Europe/Madrid;VALUE=DATE-TIME:20210520T093000
DTEND;TZID=Europe/Madrid;VALUE=DATE-TIME:20210520T104500
DTSTAMP;VALUE=DATE-TIME:20260420T025919Z
UID:e1b1f49e04724d57ac12579d55059cdf@www.rubi.cat
CATEGORIES:Salida
CREATED;VALUE=DATE-TIME:20210420T103305Z
DESCRIPTION:Sal a caminar y ¡disfruta de la vida a lo grande!
LAST-MODIFIED;VALUE=DATE-TIME:20210420T122317Z
LOCATION:Salida desde el anfiteatro del Castell
URL:https://www.rubi.cat/es/actualidad/agenda/caminata-por-can-xercavins
END:VEVENT
BEGIN:VTIMEZONE
TZID:Europe/Madrid
X-LIC-LOCATION:Europe/Madrid
BEGIN:DAYLIGHT
DTSTART;VALUE=DATE-TIME:20210328T030000
TZNAME:CEST
TZOFFSETFROM:+0100
TZOFFSETTO:+0200
END:DAYLIGHT
END:VTIMEZONE
END:VCALENDAR
