BEGIN:VCALENDAR
VERSION:2.0
PRODID:-//Plone.org//NONSGML plone.app.event//EN
X-WR-TIMEZONE:Europe/Madrid
BEGIN:VEVENT
SUMMARY:Bichos amigables: ¡Insectosss!
DTSTART;TZID=Europe/Madrid;VALUE=DATE-TIME:20260328T110000
DTEND;TZID=Europe/Madrid;VALUE=DATE-TIME:20260328T120000
DTSTAMP;VALUE=DATE-TIME:20260420T102126Z
UID:a0dcab5fac83482bb115fe30af85dfc3@www.rubi.cat
CATEGORIES:Taller,Actividad familiar
CREATED;VALUE=DATE-TIME:20260209T180609Z
DESCRIPTION:Taller de manualidades para familias con niños y niñas a par
 tir de 6 años
LAST-MODIFIED;VALUE=DATE-TIME:20260210T104024Z
LOCATION:Sala Talleres Área Infantil
URL:https://www.rubi.cat/es/actualidad/agenda/bichos-amigables-insectosss
END:VEVENT
BEGIN:VTIMEZONE
TZID:Europe/Madrid
X-LIC-LOCATION:Europe/Madrid
BEGIN:STANDARD
DTSTART;VALUE=DATE-TIME:20251026T020000
TZNAME:CET
TZOFFSETFROM:+0200
TZOFFSETTO:+0100
END:STANDARD
END:VTIMEZONE
END:VCALENDAR
