BEGIN:VCALENDAR
VERSION:2.0
PRODID:-//Plone.org//NONSGML plone.app.event//EN
X-WR-TIMEZONE:Europe/Madrid
BEGIN:VEVENT
SUMMARY:Adictos al Microteatro: La Libertad
DTSTART;TZID=Europe/Madrid;VALUE=DATE-TIME:20230304T173000
DTEND;TZID=Europe/Madrid;VALUE=DATE-TIME:20230304T203000
DTSTAMP;VALUE=DATE-TIME:20260419T192216Z
UID:b0b898b3ba7d432ba5a64eaa3ec961c5@www.rubi.cat
CATEGORIES:Jóvenes,Teatro
CONTACT:microteatrerubi@gmail.com
CREATED;VALUE=DATE-TIME:20230222T102626Z
DESCRIPTION:8a edición del Festival Joven de Microteatro
LAST-MODIFIED;VALUE=DATE-TIME:20230222T121759Z
URL:https://www.rubi.cat/es/actualidad/agenda/adictos-al-microteatro-la-li
 bertad
END:VEVENT
BEGIN:VTIMEZONE
TZID:Europe/Madrid
X-LIC-LOCATION:Europe/Madrid
BEGIN:STANDARD
DTSTART;VALUE=DATE-TIME:20221030T020000
TZNAME:CET
TZOFFSETFROM:+0200
TZOFFSETTO:+0100
END:STANDARD
END:VTIMEZONE
END:VCALENDAR
