BEGIN:VCALENDAR
VERSION:2.0
PRODID:-//Plone.org//NONSGML plone.app.event//EN
X-WR-TIMEZONE:Europe/Madrid
BEGIN:VEVENT
SUMMARY:Vols homologar els teus estudis?
DTSTART;TZID=Europe/Madrid;VALUE=DATE-TIME:20251009T160000
DTEND;TZID=Europe/Madrid;VALUE=DATE-TIME:20251009T190000
DTSTAMP;VALUE=DATE-TIME:20260419T211856Z
UID:ac580a60945349a69086e770d92f4281@www.rubi.cat
CATEGORIES:Xerrada
CREATED;VALUE=DATE-TIME:20250602T105611Z
DESCRIPTION:Xerrada informativa sobre els procediments d’homologació\, 
 equivalència i convalidació d’estudis estrangers a Espanya\, tant univ
 ersitaris com no universitaris
LAST-MODIFIED;VALUE=DATE-TIME:20250806T073124Z
URL:https://www.rubi.cat/ca/actualitat/agenda/vols-homologar-els-teus-estu
 dis
END:VEVENT
BEGIN:VTIMEZONE
TZID:Europe/Madrid
X-LIC-LOCATION:Europe/Madrid
BEGIN:DAYLIGHT
DTSTART;VALUE=DATE-TIME:20250330T030000
TZNAME:CEST
TZOFFSETFROM:+0100
TZOFFSETTO:+0200
END:DAYLIGHT
END:VTIMEZONE
END:VCALENDAR
