BEGIN:VCALENDAR
VERSION:2.0
PRODID:-//Plone.org//NONSGML plone.app.event//EN
X-WR-TIMEZONE:Europe/Madrid
BEGIN:VEVENT
SUMMARY:Visita guiada "Rubí en blanc i negre"
DTSTART;TZID=Europe/Madrid;VALUE=DATE-TIME:20231021T170000
DTEND;TZID=Europe/Madrid;VALUE=DATE-TIME:20231021T190000
DTSTAMP;VALUE=DATE-TIME:20260420T015359Z
UID:4d1368f6dd984c01bd9270081a80f16c@www.rubi.cat
CATEGORIES:Visita guiada
CONTACT:https://www.rubiguiem.com/cicle-de-tardor
CREATED;VALUE=DATE-TIME:20230923T071746Z
DESCRIPTION:Ruta guiada pel centre de Rubí amb imatges clàssiques d'arxi
 u
LAST-MODIFIED;VALUE=DATE-TIME:20230925T120310Z
LOCATION:Pl. Catalunya
URL:https://www.rubi.cat/ca/actualitat/agenda/visita-guiada-rubi-en-blanc-
 i-negre-1
END:VEVENT
BEGIN:VTIMEZONE
TZID:Europe/Madrid
X-LIC-LOCATION:Europe/Madrid
BEGIN:DAYLIGHT
DTSTART;VALUE=DATE-TIME:20230326T030000
TZNAME:CEST
TZOFFSETFROM:+0100
TZOFFSETTO:+0200
END:DAYLIGHT
END:VTIMEZONE
END:VCALENDAR
