BEGIN:VCALENDAR
VERSION:2.0
PRODID:-//Plone.org//NONSGML plone.app.event//EN
X-WR-TIMEZONE:Europe/Madrid
BEGIN:VEVENT
SUMMARY:Visita guiada "Rivo Rubeo\, Rubí medieval"
DTSTART;TZID=Europe/Madrid;VALUE=DATE-TIME:20211003T160000
DTEND;TZID=Europe/Madrid;VALUE=DATE-TIME:20211003T180000
DTSTAMP;VALUE=DATE-TIME:20260420T075736Z
UID:12f4ffb76f304a588ebc79c16a2bfa2e@www.rubi.cat
CATEGORIES:Visita guiada
CONTACT:https://www.rubiguiem.com
CREATED;VALUE=DATE-TIME:20210908T093118Z
DESCRIPTION:Un recorregut per l'origen medieval de Rubí\, des del nucli d
 e la Sagrera fins al Castell
LAST-MODIFIED;VALUE=DATE-TIME:20210909T095702Z
LOCATION:Centre històric de Rubí. Punt de trobada: plaça del Doctor Gua
 rdiet
URL:https://www.rubi.cat/ca/actualitat/agenda/visita-guiada-rivo-rubeo-rub
 i-medieval-1
END:VEVENT
BEGIN:VTIMEZONE
TZID:Europe/Madrid
X-LIC-LOCATION:Europe/Madrid
BEGIN:DAYLIGHT
DTSTART;VALUE=DATE-TIME:20210328T030000
TZNAME:CEST
TZOFFSETFROM:+0100
TZOFFSETTO:+0200
END:DAYLIGHT
END:VTIMEZONE
END:VCALENDAR
