BEGIN:VCALENDAR
VERSION:2.0
PRODID:-//Plone.org//NONSGML plone.app.event//EN
X-WR-TIMEZONE:Europe/Madrid
BEGIN:VEVENT
SUMMARY:Visita guiada al Museu Etnològic i de Cultures del Món
DTSTART;TZID=Europe/Madrid;VALUE=DATE-TIME:20231014T110000
DTEND;TZID=Europe/Madrid;VALUE=DATE-TIME:20231014T123000
DTSTAMP;VALUE=DATE-TIME:20260420T062419Z
UID:c53ff71c0eca4c6ab5db798a73e19f30@www.rubi.cat
ATTENDEE;CN="Museu Municipal Castell (MMUC)";ROLE=REQ-PARTICIPANT:Museu Mu
 nicipal Castell (MMUC)
CATEGORIES:Visita guiada
CREATED;VALUE=DATE-TIME:20230926T104109Z
DESCRIPTION:Descobreix el nostre patrimoni cultural
LAST-MODIFIED;VALUE=DATE-TIME:20230926T124000Z
LOCATION:C. Montcada\, 12 (Barcelona)
URL:https://www.rubi.cat/ca/actualitat/agenda/visita-guiada-al-museu-etnol
 ogic-i-de-cultures-del-mon
END:VEVENT
BEGIN:VTIMEZONE
TZID:Europe/Madrid
X-LIC-LOCATION:Europe/Madrid
BEGIN:DAYLIGHT
DTSTART;VALUE=DATE-TIME:20230326T030000
TZNAME:CEST
TZOFFSETFROM:+0100
TZOFFSETTO:+0200
END:DAYLIGHT
END:VTIMEZONE
END:VCALENDAR
