BEGIN:VCALENDAR
VERSION:2.0
PRODID:-//Plone.org//NONSGML plone.app.event//EN
X-WR-TIMEZONE:Europe/Madrid
BEGIN:VEVENT
SUMMARY:Vine a fer la teva  figureta de fang
DTSTART;TZID=Europe/Madrid;VALUE=DATE-TIME:20201214T175000
DTEND;TZID=Europe/Madrid;VALUE=DATE-TIME:20201214T180000
DTSTAMP;VALUE=DATE-TIME:20260419T164634Z
UID:d6f5e11c0f654a21a5cbc09de2a06a52@www.rubi.cat
CATEGORIES:Activitat familiar
CREATED;VALUE=DATE-TIME:20201209T072343Z
DESCRIPTION:Taller infantil de creació de figuretes de fang
LAST-MODIFIED;VALUE=DATE-TIME:20201211T105547Z
LOCATION:Carpa de Nadal de la Pl. Dr. Guardiet
URL:https://www.rubi.cat/ca/actualitat/agenda/vine-a-fer-la-teva-figureta-
 de-fang-2
END:VEVENT
BEGIN:VTIMEZONE
TZID:Europe/Madrid
X-LIC-LOCATION:Europe/Madrid
BEGIN:STANDARD
DTSTART;VALUE=DATE-TIME:20201025T020000
TZNAME:CET
TZOFFSETFROM:+0200
TZOFFSETTO:+0100
END:STANDARD
END:VTIMEZONE
END:VCALENDAR
