BEGIN:VCALENDAR
VERSION:2.0
PRODID:-//Plone.org//NONSGML plone.app.event//EN
X-WR-TIMEZONE:Europe/Madrid
BEGIN:VEVENT
SUMMARY:Treu partit al teu mòbil
DTSTART;TZID=Europe/Madrid;VALUE=DATE-TIME:20240321T160000
DTEND;TZID=Europe/Madrid;VALUE=DATE-TIME:20240321T173000
DTSTAMP;VALUE=DATE-TIME:20260419T194242Z
UID:6b38adde20ac4814b6eea97507215255@www.rubi.cat
CATEGORIES:Taller
CREATED;VALUE=DATE-TIME:20240215T075936Z
DESCRIPTION:Gaudeix de la vida en gran!
LAST-MODIFIED;VALUE=DATE-TIME:20240215T080523Z
URL:https://www.rubi.cat/ca/actualitat/agenda/treu-partit-al-teu-mobil-1/2
 024-03-21
END:VEVENT
BEGIN:VTIMEZONE
TZID:Europe/Madrid
X-LIC-LOCATION:Europe/Madrid
BEGIN:STANDARD
DTSTART;VALUE=DATE-TIME:20231029T020000
TZNAME:CET
TZOFFSETFROM:+0200
TZOFFSETTO:+0100
END:STANDARD
END:VTIMEZONE
END:VCALENDAR
