BEGIN:VCALENDAR
VERSION:2.0
PRODID:-//Plone.org//NONSGML plone.app.event//EN
X-WR-TIMEZONE:Europe/Madrid
BEGIN:VEVENT
SUMMARY:Taller de dansateràpia
DTSTART;TZID=Europe/Madrid;VALUE=DATE-TIME:20211203T180000
DTEND;TZID=Europe/Madrid;VALUE=DATE-TIME:20211203T200000
DTSTAMP;VALUE=DATE-TIME:20260419T224051Z
UID:d1a580715a7742b2ac7c06555910cd82@www.rubi.cat
CATEGORIES:Dansa
CREATED;VALUE=DATE-TIME:20210512T174349Z
DESCRIPTION:Connecta les emocions amb el cos
LAST-MODIFIED;VALUE=DATE-TIME:20211119T142058Z
LOCATION:Auditori
URL:https://www.rubi.cat/ca/actualitat/agenda/taller-de-dansaterapia
END:VEVENT
BEGIN:VTIMEZONE
TZID:Europe/Madrid
X-LIC-LOCATION:Europe/Madrid
BEGIN:STANDARD
DTSTART;VALUE=DATE-TIME:20211031T020000
TZNAME:CET
TZOFFSETFROM:+0200
TZOFFSETTO:+0100
END:STANDARD
END:VTIMEZONE
END:VCALENDAR
