BEGIN:VCALENDAR
VERSION:2.0
PRODID:-//Plone.org//NONSGML plone.app.event//EN
X-WR-TIMEZONE:Europe/Madrid
BEGIN:VEVENT
SUMMARY:Taller d'iniciació a l'aromateràpia i olis essencials
DTSTART;TZID=Europe/Madrid;VALUE=DATE-TIME:20251114T180000
DTEND;TZID=Europe/Madrid;VALUE=DATE-TIME:20251114T190000
DTSTAMP;VALUE=DATE-TIME:20260419T193830Z
UID:33adf5bcc3164574b15eacf444e2199a@www.rubi.cat
CATEGORIES:Taller
CREATED;VALUE=DATE-TIME:20250904T154244Z
DESCRIPTION:Aprèn a crear la teva farmaciola natural
LAST-MODIFIED;VALUE=DATE-TIME:20251022T071100Z
LOCATION:Sala de Treball en grup
URL:https://www.rubi.cat/ca/actualitat/agenda/taller-aromaterapia-i-olis-e
 ssencials
END:VEVENT
BEGIN:VTIMEZONE
TZID:Europe/Madrid
X-LIC-LOCATION:Europe/Madrid
BEGIN:STANDARD
DTSTART;VALUE=DATE-TIME:20251026T020000
TZNAME:CET
TZOFFSETFROM:+0200
TZOFFSETTO:+0100
END:STANDARD
END:VTIMEZONE
END:VCALENDAR
