BEGIN:VCALENDAR
VERSION:2.0
PRODID:-//Plone.org//NONSGML plone.app.event//EN
X-WR-TIMEZONE:Europe/Madrid
BEGIN:VEVENT
SUMMARY:Story Time: Songs and stories
DTSTART;TZID=Europe/Madrid;VALUE=DATE-TIME:20240722T180000
DTEND;TZID=Europe/Madrid;VALUE=DATE-TIME:20240722T190000
DTSTAMP;VALUE=DATE-TIME:20260419T154219Z
UID:767949233983450ebee72b379c7dba3a@www.rubi.cat
CATEGORIES:Activitat familiar
CREATED;VALUE=DATE-TIME:20240603T155236Z
DESCRIPTION:Hora del conte en anglès per a infants a partir de 4 anys
LAST-MODIFIED;VALUE=DATE-TIME:20240717T112832Z
LOCATION:Sala de Petits Lectors
URL:https://www.rubi.cat/ca/actualitat/agenda/story-time-songs-and-stories
END:VEVENT
BEGIN:VTIMEZONE
TZID:Europe/Madrid
X-LIC-LOCATION:Europe/Madrid
BEGIN:DAYLIGHT
DTSTART;VALUE=DATE-TIME:20240331T030000
TZNAME:CEST
TZOFFSETFROM:+0100
TZOFFSETTO:+0200
END:DAYLIGHT
END:VTIMEZONE
END:VCALENDAR
