BEGIN:VCALENDAR
VERSION:2.0
PRODID:-//Plone.org//NONSGML plone.app.event//EN
X-WR-TIMEZONE:Europe/Madrid
BEGIN:VEVENT
SUMMARY:Servei d'acompanyament a la vida independent
DTSTART;TZID=Europe/Madrid;VALUE=DATE-TIME:20240627T173000
DTEND;TZID=Europe/Madrid;VALUE=DATE-TIME:20240627T183000
DTSTAMP;VALUE=DATE-TIME:20260420T064343Z
UID:2ce447ea2e8a4ade8124ade7c1974cbe@www.rubi.cat
CATEGORIES:Xerrada
CREATED;VALUE=DATE-TIME:20240621T114911Z
DESCRIPTION:Activitat adreçada a les persones amb discapacitat intel·lec
 tual i diagnòstic de malaltia mental
LAST-MODIFIED;VALUE=DATE-TIME:20240621T132621Z
LOCATION:Auditori
URL:https://www.rubi.cat/ca/actualitat/agenda/servei-dacompanyament-a-la-v
 ida-independent-1
END:VEVENT
BEGIN:VTIMEZONE
TZID:Europe/Madrid
X-LIC-LOCATION:Europe/Madrid
BEGIN:DAYLIGHT
DTSTART;VALUE=DATE-TIME:20240331T030000
TZNAME:CEST
TZOFFSETFROM:+0100
TZOFFSETTO:+0200
END:DAYLIGHT
END:VTIMEZONE
END:VCALENDAR
