BEGIN:VCALENDAR
VERSION:2.0
PRODID:-//Plone.org//NONSGML plone.app.event//EN
X-WR-TIMEZONE:Europe/Madrid
BEGIN:VEVENT
SUMMARY:Segona trobada de l'ADEER
DTSTART;TZID=Europe/Madrid;VALUE=DATE-TIME:20241115T203000
DTEND;TZID=Europe/Madrid;VALUE=DATE-TIME:20241115T213000
DTSTAMP;VALUE=DATE-TIME:20260420T141922Z
UID:3279dfcf7b2c45eabc52e5dcdb50abc3@www.rubi.cat
CATEGORIES:Jornada
CREATED;VALUE=DATE-TIME:20241014T133328Z
DESCRIPTION:L'Associació de Dones Emprenedores i Empresàries de Rubí or
 ganitza sessions per compartir i reflexionar sobre temes referents a l'emp
 renedoria
LAST-MODIFIED;VALUE=DATE-TIME:20241015T080655Z
LOCATION:Temps per Tu. C. Narcís Menard\, 21
URL:https://www.rubi.cat/ca/actualitat/agenda/segona-trobada-de-adeer
END:VEVENT
BEGIN:VTIMEZONE
TZID:Europe/Madrid
X-LIC-LOCATION:Europe/Madrid
BEGIN:STANDARD
DTSTART;VALUE=DATE-TIME:20241027T020000
TZNAME:CET
TZOFFSETFROM:+0200
TZOFFSETTO:+0100
END:STANDARD
END:VTIMEZONE
END:VCALENDAR
