BEGIN:VCALENDAR
VERSION:2.0
PRODID:-//Plone.org//NONSGML plone.app.event//EN
X-WR-TIMEZONE:Europe/Madrid
BEGIN:VEVENT
SUMMARY:Ruta per l'estany dels Alous
DTSTART;TZID=Europe/Madrid;VALUE=DATE-TIME:20211028T093000
DTEND;TZID=Europe/Madrid;VALUE=DATE-TIME:20211028T120000
DTSTAMP;VALUE=DATE-TIME:20260420T113203Z
UID:cddaa9c4d194427f81a4036f9d07abd0@www.rubi.cat
CATEGORIES:Sortida
CREATED;VALUE=DATE-TIME:20211005T081815Z
DESCRIPTION:Gaudeix de la vida en gran!
LAST-MODIFIED;VALUE=DATE-TIME:20211006T121558Z
LOCATION:Plaça de la Nova Estació (davant dels Ferrocarrils de la Genera
 litat de Catalunya)
URL:https://www.rubi.cat/ca/actualitat/agenda/ruta-per-lestany-dels-alous
END:VEVENT
BEGIN:VTIMEZONE
TZID:Europe/Madrid
X-LIC-LOCATION:Europe/Madrid
BEGIN:DAYLIGHT
DTSTART;VALUE=DATE-TIME:20210328T030000
TZNAME:CEST
TZOFFSETFROM:+0100
TZOFFSETTO:+0200
END:DAYLIGHT
END:VTIMEZONE
END:VCALENDAR
