BEGIN:VCALENDAR
VERSION:2.0
PRODID:-//Plone.org//NONSGML plone.app.event//EN
X-WR-TIMEZONE:Europe/Madrid
BEGIN:VEVENT
SUMMARY:Roger C. Wade i Balta Bordoy feat. Marion Wade
DTSTART;TZID=Europe/Madrid;VALUE=DATE-TIME:20221120T120000
DTEND;TZID=Europe/Madrid;VALUE=DATE-TIME:20221120T140000
DTSTAMP;VALUE=DATE-TIME:20260420T072654Z
UID:f9716ff28e4f407a8231009161def648@www.rubi.cat
CATEGORIES:Música
CONTACT:https://societatbluesrubi.com
CREATED;VALUE=DATE-TIME:20221106T122836Z
DESCRIPTION:Vermut musical de la Societat de Blues de Rubí
LAST-MODIFIED;VALUE=DATE-TIME:20221109T092550Z
LOCATION:Masia Can Ramoneda. Camí de Sant Muç s/n
URL:https://www.rubi.cat/ca/actualitat/agenda/roger-c-wade-i-balta-bordoy-
 feat-marion-wade
END:VEVENT
BEGIN:VTIMEZONE
TZID:Europe/Madrid
X-LIC-LOCATION:Europe/Madrid
BEGIN:STANDARD
DTSTART;VALUE=DATE-TIME:20221030T020000
TZNAME:CET
TZOFFSETFROM:+0200
TZOFFSETTO:+0100
END:STANDARD
END:VTIMEZONE
END:VCALENDAR
