BEGIN:VCALENDAR
VERSION:2.0
PRODID:-//Plone.org//NONSGML plone.app.event//EN
X-WR-TIMEZONE:Europe/Madrid
BEGIN:VEVENT
SUMMARY:Programa d'orientació laboral juvenil Creu Roja
DTSTART;TZID=Europe/Madrid;VALUE=DATE-TIME:20210504T110000
DTEND;TZID=Europe/Madrid;VALUE=DATE-TIME:20210504T123000
DTSTAMP;VALUE=DATE-TIME:20260420T114616Z
UID:8fa14f18807b49a3911b1e21396ea20a@www.rubi.cat
CATEGORIES:Conferència
CREATED;VALUE=DATE-TIME:20210408T065511Z
DESCRIPTION:Xerrada sobre "Primeres oportunitats laborals per a joves"\, g
 estionat per Creu Roja
LAST-MODIFIED;VALUE=DATE-TIME:20210422T061013Z
LOCATION:Sessió virtual mitjançant TEAMS
URL:https://www.rubi.cat/ca/actualitat/agenda/programa-dorientacio-laboral
 -juvenil-creu-roja
END:VEVENT
BEGIN:VTIMEZONE
TZID:Europe/Madrid
X-LIC-LOCATION:Europe/Madrid
BEGIN:DAYLIGHT
DTSTART;VALUE=DATE-TIME:20210328T030000
TZNAME:CEST
TZOFFSETFROM:+0100
TZOFFSETTO:+0200
END:DAYLIGHT
END:VTIMEZONE
END:VCALENDAR
