BEGIN:VCALENDAR
VERSION:2.0
PRODID:-//Plone.org//NONSGML plone.app.event//EN
X-WR-TIMEZONE:Europe/Madrid
BEGIN:VEVENT
SUMMARY:Play Orquestra
DTSTART;TZID=Europe/Madrid;VALUE=DATE-TIME:20260502T183000
DTEND;TZID=Europe/Madrid;VALUE=DATE-TIME:20260502T210000
DTSTAMP;VALUE=DATE-TIME:20260420T104853Z
UID:c2970c7b98ac4651b20a8843b821e720@www.rubi.cat
CATEGORIES:Música,Casino
CREATED;VALUE=DATE-TIME:20260417T131944Z
DESCRIPTION:Ball de tarda a El Casino
LAST-MODIFIED;VALUE=DATE-TIME:20260417T131953Z
URL:https://www.rubi.cat/ca/actualitat/agenda/play-orquestra
END:VEVENT
BEGIN:VTIMEZONE
TZID:Europe/Madrid
X-LIC-LOCATION:Europe/Madrid
BEGIN:DAYLIGHT
DTSTART;VALUE=DATE-TIME:20260329T030000
TZNAME:CEST
TZOFFSETFROM:+0100
TZOFFSETTO:+0200
END:DAYLIGHT
END:VTIMEZONE
END:VCALENDAR
