BEGIN:VCALENDAR
VERSION:2.0
PRODID:-//Plone.org//NONSGML plone.app.event//EN
X-WR-TIMEZONE:Europe/Madrid
BEGIN:VEVENT
SUMMARY:Pere Soto & Evan Tate Quartet
DTSTART;TZID=Europe/Madrid;VALUE=DATE-TIME:20260315T123000
DTEND;TZID=Europe/Madrid;VALUE=DATE-TIME:20260315T140000
DTSTAMP;VALUE=DATE-TIME:20260420T101934Z
UID:64571b37ea4e4e1884854f29d0f71dfa@www.rubi.cat
CATEGORIES:Música
CREATED;VALUE=DATE-TIME:20251210T125034Z
DESCRIPTION:14è Cicle de Jazz
LAST-MODIFIED;VALUE=DATE-TIME:20251211T201041Z
LOCATION:al pati petit
URL:https://www.rubi.cat/ca/actualitat/agenda/pere-soto-evan-tate-quartet
END:VEVENT
BEGIN:VTIMEZONE
TZID:Europe/Madrid
X-LIC-LOCATION:Europe/Madrid
BEGIN:STANDARD
DTSTART;VALUE=DATE-TIME:20251026T020000
TZNAME:CET
TZOFFSETFROM:+0200
TZOFFSETTO:+0100
END:STANDARD
END:VTIMEZONE
END:VCALENDAR
