BEGIN:VCALENDAR
VERSION:2.0
PRODID:-//Plone.org//NONSGML plone.app.event//EN
X-WR-TIMEZONE:Europe/Madrid
BEGIN:VEVENT
SUMMARY:Parlar en públic (a través de les eines del teatre)
DTSTART;TZID=Europe/Madrid;VALUE=DATE-TIME:20210121T190000
DTEND;TZID=Europe/Madrid;VALUE=DATE-TIME:20210121T203000
DTSTAMP;VALUE=DATE-TIME:20260420T062026Z
UID:d725e235c6a944a78aff9bc8124502f0@www.rubi.cat
CATEGORIES:Formació
CONTACT:93 588 74 73\, ateneu@ajrubi.cat
CREATED;VALUE=DATE-TIME:20201217T163211Z
DESCRIPTION:Cursos i tallers | Programació d'hivern 2021
LAST-MODIFIED;VALUE=DATE-TIME:20201222T114945Z
URL:https://www.rubi.cat/ca/actualitat/agenda/parlar-en-public-a-traves-de
 -les-eines-del-teatre
END:VEVENT
BEGIN:VTIMEZONE
TZID:Europe/Madrid
X-LIC-LOCATION:Europe/Madrid
BEGIN:STANDARD
DTSTART;VALUE=DATE-TIME:20201025T020000
TZNAME:CET
TZOFFSETFROM:+0200
TZOFFSETTO:+0100
END:STANDARD
END:VTIMEZONE
END:VCALENDAR
