BEGIN:VCALENDAR
VERSION:2.0
PRODID:-//Plone.org//NONSGML plone.app.event//EN
X-WR-TIMEZONE:Europe/Madrid
BEGIN:VEVENT
SUMMARY:Mi sueño\, hacer fotografia
DTSTART;TZID=Europe/Madrid;VALUE=DATE-TIME:20240122T180000
DTEND;TZID=Europe/Madrid;VALUE=DATE-TIME:20240122T194500
DTSTAMP;VALUE=DATE-TIME:20260420T051540Z
UID:e26d665333ce41ad9af13b26d41c4fde@www.rubi.cat
CATEGORIES:Conferència
CONTACT:https://aularubi.cat/portal1/h_item-detail.php?contentid=1856
CREATED;VALUE=DATE-TIME:20240116T134241Z
DESCRIPTION:A càrrec d’Agustín Jiménez\, fotògraf aficionat
LAST-MODIFIED;VALUE=DATE-TIME:20240116T135755Z
LOCATION:Auditori del Museu Etnogràfic Vallhonrat. Pl. Montserrat Roig
URL:https://www.rubi.cat/ca/actualitat/agenda/mi-sueno-hacer-fotografia
END:VEVENT
BEGIN:VTIMEZONE
TZID:Europe/Madrid
X-LIC-LOCATION:Europe/Madrid
BEGIN:STANDARD
DTSTART;VALUE=DATE-TIME:20231029T020000
TZNAME:CET
TZOFFSETFROM:+0200
TZOFFSETTO:+0100
END:STANDARD
END:VTIMEZONE
END:VCALENDAR
