BEGIN:VCALENDAR
VERSION:2.0
PRODID:-//Plone.org//NONSGML plone.app.event//EN
X-WR-TIMEZONE:Europe/Madrid
BEGIN:VEVENT
SUMMARY:Masies i camins rurals de Rubí
DTSTART;VALUE=DATE:20220422
DTEND;VALUE=DATE:20220502
DTSTAMP;VALUE=DATE-TIME:20260419T192300Z
UID:ad9e5614f2c04dbbb2ee577f85ef6994@www.rubi.cat
CATEGORIES:Activitat familiar,Sortida
CONTACT:https://www.rubi.cat/diadelaterra
CREATED;VALUE=DATE-TIME:20220329T075536Z
DESCRIPTION:Dia de la Terra
LAST-MODIFIED;VALUE=DATE-TIME:20250327T102750Z
LOCATION:Entorn natural de la ciutat
URL:https://www.rubi.cat/ca/actualitat/agenda/masies-i-camins-rurals-de-ru
 bi
END:VEVENT
END:VCALENDAR
