BEGIN:VCALENDAR
VERSION:2.0
PRODID:-//Plone.org//NONSGML plone.app.event//EN
X-WR-TIMEZONE:Europe/Madrid
BEGIN:VEVENT
SUMMARY:Viu la masia de Can Balasch
DTSTART;TZID=Europe/Madrid;VALUE=DATE-TIME:20230430T110000
DTEND;TZID=Europe/Madrid;VALUE=DATE-TIME:20230430T130000
DTSTAMP;VALUE=DATE-TIME:20260420T112812Z
UID:940166dc8bbf4d05a4668ce6eb3e068c@www.rubi.cat
CATEGORIES:Visita guiada
CONTACT:http://www.rubi.cat/diadelaterra
CREATED;VALUE=DATE-TIME:20230410T145425Z
DESCRIPTION:Dia de la Terra
LAST-MODIFIED;VALUE=DATE-TIME:20230411T114918Z
LOCATION:Masia Can Balasch
URL:https://www.rubi.cat/ca/actualitat/agenda/masia_can_balasch
END:VEVENT
BEGIN:VTIMEZONE
TZID:Europe/Madrid
X-LIC-LOCATION:Europe/Madrid
BEGIN:DAYLIGHT
DTSTART;VALUE=DATE-TIME:20230326T030000
TZNAME:CEST
TZOFFSETFROM:+0100
TZOFFSETTO:+0200
END:DAYLIGHT
END:VTIMEZONE
END:VCALENDAR
