BEGIN:VCALENDAR
VERSION:2.0
PRODID:-//Plone.org//NONSGML plone.app.event//EN
X-WR-TIMEZONE:Europe/Madrid
BEGIN:VEVENT
SUMMARY:La Flauta Màgica de W.A. Mozart
DTSTART;TZID=Europe/Madrid;VALUE=DATE-TIME:20220616T190000
DTEND;TZID=Europe/Madrid;VALUE=DATE-TIME:20220616T201500
DTSTAMP;VALUE=DATE-TIME:20260420T061147Z
UID:47e3fc92511c4812b6fa459aefa208b5@www.rubi.cat
CATEGORIES:Conferència,Música
CONTACT:93 588 74 73 / 610 49 18 13\, ateneu@ajrubi.cat
CREATED;VALUE=DATE-TIME:20220504T105501Z
DESCRIPTION:Conta'm una Òpera | Programació de primavera 2022
LAST-MODIFIED;VALUE=DATE-TIME:20220506T124332Z
URL:https://www.rubi.cat/ca/actualitat/agenda/la-flauta-magica-de-w-a-moza
 rt
END:VEVENT
BEGIN:VTIMEZONE
TZID:Europe/Madrid
X-LIC-LOCATION:Europe/Madrid
BEGIN:DAYLIGHT
DTSTART;VALUE=DATE-TIME:20220327T030000
TZNAME:CEST
TZOFFSETFROM:+0100
TZOFFSETTO:+0200
END:DAYLIGHT
END:VTIMEZONE
END:VCALENDAR
