BEGIN:VCALENDAR
VERSION:2.0
PRODID:-//Plone.org//NONSGML plone.app.event//EN
X-WR-TIMEZONE:Europe/Madrid
BEGIN:VEVENT
SUMMARY:La drecera de Caïm\, amb Sílvia Mayans Gómez
DTSTART;TZID=Europe/Madrid;VALUE=DATE-TIME:20231017T190000
DTEND;TZID=Europe/Madrid;VALUE=DATE-TIME:20231017T200000
DTSTAMP;VALUE=DATE-TIME:20260420T031314Z
UID:76a6a5c6898b4ff8beb1c98dd4f03411@www.rubi.cat
CATEGORIES:Tertúlia,Conferència,Xerrada
CONTACT:http://ateneurubi.rubidigital.cat/agenda/2047/la-drecera-de-caim-a
 mb-silvia-mayans-gomez
CREATED;VALUE=DATE-TIME:20230804T071610Z
DESCRIPTION:Club de Lectura Criminal
LAST-MODIFIED;VALUE=DATE-TIME:20230908T104114Z
URL:https://www.rubi.cat/ca/actualitat/agenda/la-drecera-de-caim-amb-silvi
 a-mayans-gomez
END:VEVENT
BEGIN:VTIMEZONE
TZID:Europe/Madrid
X-LIC-LOCATION:Europe/Madrid
BEGIN:DAYLIGHT
DTSTART;VALUE=DATE-TIME:20230326T030000
TZNAME:CEST
TZOFFSETFROM:+0100
TZOFFSETTO:+0200
END:DAYLIGHT
END:VTIMEZONE
END:VCALENDAR
