BEGIN:VCALENDAR
VERSION:2.0
PRODID:-//Plone.org//NONSGML plone.app.event//EN
X-WR-TIMEZONE:Europe/Madrid
BEGIN:VEVENT
SUMMARY:Jocs per agilitzar el teu cervell amb el mòbil
DTSTART;TZID=Europe/Madrid;VALUE=DATE-TIME:20241015T160000
DTEND;TZID=Europe/Madrid;VALUE=DATE-TIME:20241015T173000
DTSTAMP;VALUE=DATE-TIME:20260420T072718Z
UID:757095c9cf384f56841fa77d380c9d3e@www.rubi.cat
RRULE:FREQ=WEEKLY;COUNT=6;BYDAY=TU
CATEGORIES:Taller
CREATED;VALUE=DATE-TIME:20240910T103454Z
DESCRIPTION:Gaudeix de la vida en gran!
LAST-MODIFIED;VALUE=DATE-TIME:20240910T121615Z
LOCATION:Rubí Forma
URL:https://www.rubi.cat/ca/actualitat/agenda/jocs-per-agilitzar-el-teu-ce
 rvell-amb-el-mobil
END:VEVENT
BEGIN:VTIMEZONE
TZID:Europe/Madrid
X-LIC-LOCATION:Europe/Madrid
BEGIN:DAYLIGHT
DTSTART;VALUE=DATE-TIME:20240331T030000
TZNAME:CEST
TZOFFSETFROM:+0100
TZOFFSETTO:+0200
END:DAYLIGHT
END:VTIMEZONE
END:VCALENDAR
