BEGIN:VCALENDAR
VERSION:2.0
PRODID:-//Plone.org//NONSGML plone.app.event//EN
X-WR-TIMEZONE:Europe/Madrid
BEGIN:VEVENT
SUMMARY:Ioga en família
DTSTART;TZID=Europe/Madrid;VALUE=DATE-TIME:20220510T180000
DTSTAMP;VALUE=DATE-TIME:20260420T075731Z
UID:ab500208143a4ff1a1517d82300cc60d@www.rubi.cat
RRULE:FREQ=DAILY;UNTIL=20220510T000000;INTERVAL=7
EXDATE;TZID=Europe/Madrid:20220504T000000,20220505T000000,20220506T000000,
 20220507T000000,20220508T000000,20220509T000000,20220607T000000,20220614T0
 00000
CATEGORIES:CarnetRubí360
CREATED;VALUE=DATE-TIME:20220419T081318Z
DESCRIPTION:Carnet Rubí 360: Competència Esports i Benestar
LAST-MODIFIED;VALUE=DATE-TIME:20220503T125216Z
LOCATION:Carrer de Sant Pere\, 40\, 08191 Rubí\, Barcelona
URL:https://www.rubi.cat/ca/actualitat/agenda/ioga-en-familia
END:VEVENT
BEGIN:VTIMEZONE
TZID:Europe/Madrid
X-LIC-LOCATION:Europe/Madrid
BEGIN:DAYLIGHT
DTSTART;VALUE=DATE-TIME:20220327T030000
TZNAME:CEST
TZOFFSETFROM:+0100
TZOFFSETTO:+0200
END:DAYLIGHT
END:VTIMEZONE
END:VCALENDAR
